BEGIN:VCALENDAR
VERSION:2.0
PRODID:-//KTNN - St. Michaels, AZ - ECPv5.6.0//NONSGML v1.0//EN
CALSCALE:GREGORIAN
METHOD:PUBLISH
X-WR-CALNAME:KTNN - St. Michaels, AZ
X-ORIGINAL-URL:https://www.ktnnonline.com
X-WR-CALDESC:Events for KTNN - St. Michaels, AZ
BEGIN:VTIMEZONE
TZID:America/Denver
BEGIN:DAYLIGHT
TZOFFSETFROM:-0700
TZOFFSETTO:-0600
TZNAME:MDT
DTSTART:20230312T090000
END:DAYLIGHT
BEGIN:STANDARD
TZOFFSETFROM:-0600
TZOFFSETTO:-0700
TZNAME:MST
DTSTART:20231105T080000
END:STANDARD
END:VTIMEZONE
BEGIN:VEVENT
DTSTART;TZID=America/Denver:20230226T120000
DTEND;TZID=America/Denver:20230226T170000
DTSTAMP:20260425T102246
CREATED:20230224T202603Z
LAST-MODIFIED:20230224T202603Z
UID:76974-1677412800-1677430800@www.ktnnonline.com
SUMMARY:TseSiAni (Lupton) Chapter Regular Chapter Meeting
DESCRIPTION:EVENT:   TSESIANI (Lupton) CHAPTER MEETING\n \nDATE:   Sunday\, February 26\, 2023 \nTIME:    12:00 pm \nPLACE:   Lupton Chapter House \nREMARKS: Please wear face mask while attending meeting
URL:https://www.ktnnonline.com/event/tsesiani-lupton-chapter-regular-chapter-meeting/
LOCATION:Tse Si Ani (Lupton) Chapter\, PO Box 403\, Lupton\, AZ\, 86508\, United States
CATEGORIES:Event
GEO:35.3539127;-109.0537017
X-APPLE-STRUCTURED-LOCATION;VALUE=URI;X-ADDRESS=Tse Si Ani (Lupton) Chapter PO Box 403 Lupton AZ 86508 United States;X-APPLE-RADIUS=500;X-TITLE=PO Box 403:geo:-109.0537017,35.3539127
END:VEVENT
END:VCALENDAR