BEGIN:VCALENDAR
VERSION:2.0
PRODID:-//KTNN - St. Michaels, AZ - ECPv5.6.0//NONSGML v1.0//EN
CALSCALE:GREGORIAN
METHOD:PUBLISH
X-WR-CALNAME:KTNN - St. Michaels, AZ
X-ORIGINAL-URL:https://www.ktnnonline.com
X-WR-CALDESC:Events for KTNN - St. Michaels, AZ
BEGIN:VTIMEZONE
TZID:America/Denver
BEGIN:DAYLIGHT
TZOFFSETFROM:-0700
TZOFFSETTO:-0600
TZNAME:MDT
DTSTART:20240310T090000
END:DAYLIGHT
BEGIN:STANDARD
TZOFFSETFROM:-0600
TZOFFSETTO:-0700
TZNAME:MST
DTSTART:20241103T080000
END:STANDARD
END:VTIMEZONE
BEGIN:VEVENT
DTSTART;TZID=America/Denver:20241031T093000
DTEND;TZID=America/Denver:20241031T170000
DTSTAMP:20260420T031017
CREATED:20241030T201210Z
LAST-MODIFIED:20241030T201210Z
UID:96031-1730367000-1730394000@www.ktnnonline.com
SUMMARY:National School Bus Safety Week "Safety First\, Safety Always" GUSD
DESCRIPTION:
URL:https://www.ktnnonline.com/event/national-school-bus-safety-week-safety-first-safety-always-gusd/
CATEGORIES:Event
END:VEVENT
END:VCALENDAR