BEGIN:VCALENDAR
VERSION:2.0
PRODID:-//KTNN - St. Michaels, AZ - ECPv5.6.0//NONSGML v1.0//EN
CALSCALE:GREGORIAN
METHOD:PUBLISH
X-WR-CALNAME:KTNN - St. Michaels, AZ
X-ORIGINAL-URL:https://www.ktnnonline.com
X-WR-CALDESC:Events for KTNN - St. Michaels, AZ
BEGIN:VTIMEZONE
TZID:America/Denver
BEGIN:DAYLIGHT
TZOFFSETFROM:-0700
TZOFFSETTO:-0600
TZNAME:MDT
DTSTART:20240310T090000
END:DAYLIGHT
BEGIN:STANDARD
TZOFFSETFROM:-0600
TZOFFSETTO:-0700
TZNAME:MST
DTSTART:20241103T080000
END:STANDARD
END:VTIMEZONE
BEGIN:VEVENT
DTSTART;TZID=America/Denver:20240109T100000
DTEND;TZID=America/Denver:20240109T170000
DTSTAMP:20260419T141839
CREATED:20240108T194451Z
LAST-MODIFIED:20240108T194451Z
UID:85833-1704794400-1704819600@www.ktnnonline.com
SUMMARY:Nahodishgish Senior Center Advisory Council Meeting
DESCRIPTION:Event: Nahodishgish Chapter – Local Senior Advisory Council Meeting \nDate: Tuesday\, January 09\, 2024 \nTime: 10:00 AM \nLocation:  Nahodishgish Chapter House \nContact/Phone: 505-786-2375 \nRemarks: In-Person Meeting\, Any questions call the Chapter House.
URL:https://www.ktnnonline.com/event/nahodishgish-senior-center-advisory-council-meeting/
LOCATION:Nahodishgish Chapter\, P.O. Box 369\, Crownpoint\, NM\, 87313\, United States
CATEGORIES:Event
GEO:35.678286;-108.150215
X-APPLE-STRUCTURED-LOCATION;VALUE=URI;X-ADDRESS=Nahodishgish Chapter P.O. Box 369 Crownpoint NM 87313 United States;X-APPLE-RADIUS=500;X-TITLE=P.O. Box 369:geo:-108.150215,35.678286
END:VEVENT
END:VCALENDAR