BEGIN:VCALENDAR
VERSION:2.0
PRODID:-//KTNN - St. Michaels, AZ - ECPv5.6.0//NONSGML v1.0//EN
CALSCALE:GREGORIAN
METHOD:PUBLISH
X-WR-CALNAME:KTNN - St. Michaels, AZ
X-ORIGINAL-URL:https://www.ktnnonline.com
X-WR-CALDESC:Events for KTNN - St. Michaels, AZ
BEGIN:VTIMEZONE
TZID:America/Denver
BEGIN:DAYLIGHT
TZOFFSETFROM:-0700
TZOFFSETTO:-0600
TZNAME:MDT
DTSTART:20230312T090000
END:DAYLIGHT
BEGIN:STANDARD
TZOFFSETFROM:-0600
TZOFFSETTO:-0700
TZNAME:MST
DTSTART:20231105T080000
END:STANDARD
END:VTIMEZONE
BEGIN:VEVENT
DTSTART;TZID=America/Denver:20230227T080000
DTEND;TZID=America/Denver:20230302T170000
DTSTAMP:20260425T114134
CREATED:20230224T161517Z
LAST-MODIFIED:20230224T161517Z
UID:76960-1677484800-1677776400@www.ktnnonline.com
SUMMARY:NACE Purchasing CLOSED 02/24 to 3/02
DESCRIPTION:Navajo ARTS AND CRAFTS ENTERPRISE \nPURCHASING CLOSED \nMONDAY\, FEBRUARY 27 \nto  \nTHURSDAY\, MARCH 2\, 2023 \nPURCHASING WILL RESUME THEIR REGULAR SCHEDULE ON MARCH 6. \nREGULAR SCHEDULE MONDAY – THURSDAY  \n9 AM – 2 PM  \nFOR MORE INFORMATION CONTACT PURCHASING AT (928) 871-4090 EXT. 800 \nIN BEAUTY MAY YOU WALK | GONAVAJO.COM
URL:https://www.ktnnonline.com/event/nace-purchasing-closed-02-24-to-3-02/
CATEGORIES:Event
END:VEVENT
END:VCALENDAR