BEGIN:VCALENDAR
VERSION:2.0
PRODID:-//KTNN - St. Michaels, AZ - ECPv5.6.0//NONSGML v1.0//EN
CALSCALE:GREGORIAN
METHOD:PUBLISH
X-WR-CALNAME:KTNN - St. Michaels, AZ
X-ORIGINAL-URL:https://www.ktnnonline.com
X-WR-CALDESC:Events for KTNN - St. Michaels, AZ
BEGIN:VTIMEZONE
TZID:America/Denver
BEGIN:DAYLIGHT
TZOFFSETFROM:-0700
TZOFFSETTO:-0600
TZNAME:MDT
DTSTART:20230312T090000
END:DAYLIGHT
BEGIN:STANDARD
TZOFFSETFROM:-0600
TZOFFSETTO:-0700
TZNAME:MST
DTSTART:20231105T080000
END:STANDARD
END:VTIMEZONE
BEGIN:VEVENT
DTSTART;TZID=America/Denver:20230224T090000
DTEND;TZID=America/Denver:20230224T123000
DTSTAMP:20260425T151518
CREATED:20230221T180752Z
LAST-MODIFIED:20230221T180752Z
UID:76884-1677229200-1677241800@www.ktnnonline.com
SUMMARY:Houck Chapter CLUPC Meeting POSTPONED
DESCRIPTION:HOUCK CHAPTER CLUPC MTG–POSTPONED  \nFEB. 22\, 2023 to FRIDAY\, FEB. 24\, 2023 at 9a.m.\, due to inclement weather…  \nFor information Please feel free to contact Houck Chapter for any questions at (928) 688-2734. \nThank you!
URL:https://www.ktnnonline.com/event/houck-chapter-clupc-meeting-postponed/
LOCATION:Houck Chapter\, P.O BOX 127\, Houck\, AZ\, 86506\, United States
CATEGORIES:Event
GEO:35.2830803;-109.2070391
X-APPLE-STRUCTURED-LOCATION;VALUE=URI;X-ADDRESS=Houck Chapter P.O BOX 127 Houck AZ 86506 United States;X-APPLE-RADIUS=500;X-TITLE=P.O BOX 127:geo:-109.2070391,35.2830803
END:VEVENT
END:VCALENDAR