BEGIN:VCALENDAR
VERSION:2.0
PRODID:-//KTNN - St. Michaels, AZ - ECPv5.6.0//NONSGML v1.0//EN
CALSCALE:GREGORIAN
METHOD:PUBLISH
X-WR-CALNAME:KTNN - St. Michaels, AZ
X-ORIGINAL-URL:https://www.ktnnonline.com
X-WR-CALDESC:Events for KTNN - St. Michaels, AZ
BEGIN:VTIMEZONE
TZID:America/Denver
BEGIN:DAYLIGHT
TZOFFSETFROM:-0700
TZOFFSETTO:-0600
TZNAME:MDT
DTSTART:20230312T090000
END:DAYLIGHT
BEGIN:STANDARD
TZOFFSETFROM:-0600
TZOFFSETTO:-0700
TZNAME:MST
DTSTART:20231105T080000
END:STANDARD
END:VTIMEZONE
BEGIN:VEVENT
DTSTART;TZID=America/Denver:20230224T090000
DTEND;TZID=America/Denver:20230224T170000
DTSTAMP:20260425T162851
CREATED:20230217T215445Z
LAST-MODIFIED:20230221T225756Z
UID:76842-1677229200-1677258000@www.ktnnonline.com
SUMMARY:Houck Chapter CLUPC Meeting
DESCRIPTION:EVENT:   HOUCK CHAPTER CLUPC MEETING\n \nDATE:   Friday\, February 24\, 2023 \nTIME:    9:00 am \nPLACE:   Houck Chapter House \nREMARKS: Topics:     Illegal Trash Dumping \nN9402 Road Update \nMin Yard Update
URL:https://www.ktnnonline.com/event/houck-chapter-clupc-meeting-6/
LOCATION:Houck Chapter\, P.O BOX 127\, Houck\, AZ\, 86506\, United States
CATEGORIES:Event
GEO:35.2830803;-109.2070391
X-APPLE-STRUCTURED-LOCATION;VALUE=URI;X-ADDRESS=Houck Chapter P.O BOX 127 Houck AZ 86506 United States;X-APPLE-RADIUS=500;X-TITLE=P.O BOX 127:geo:-109.2070391,35.2830803
END:VEVENT
END:VCALENDAR