BEGIN:VCALENDAR
VERSION:2.0
PRODID:-//KTNN - St. Michaels, AZ - ECPv5.6.0//NONSGML v1.0//EN
CALSCALE:GREGORIAN
METHOD:PUBLISH
X-WR-CALNAME:KTNN - St. Michaels, AZ
X-ORIGINAL-URL:https://www.ktnnonline.com
X-WR-CALDESC:Events for KTNN - St. Michaels, AZ
BEGIN:VTIMEZONE
TZID:America/Denver
BEGIN:DAYLIGHT
TZOFFSETFROM:-0700
TZOFFSETTO:-0600
TZNAME:MDT
DTSTART:20230312T090000
END:DAYLIGHT
BEGIN:STANDARD
TZOFFSETFROM:-0600
TZOFFSETTO:-0700
TZNAME:MST
DTSTART:20231105T080000
END:STANDARD
END:VTIMEZONE
BEGIN:VEVENT
DTSTART;TZID=America/Denver:20230227T080000
DTEND;TZID=America/Denver:20230227T170000
DTSTAMP:20260425T155348
CREATED:20230227T190635Z
LAST-MODIFIED:20230227T190635Z
UID:77002-1677484800-1677517200@www.ktnnonline.com
SUMMARY:Forest Lake Chapter Senior Center Not Serving Meals Today
DESCRIPTION:The Forest Lake Senior Center will not be serving meals due to limited resources today February 27\, 2023. \nWe apologize for the inconvenience. \nThank you\, \nTheresa Begay \nOffice Assistant
URL:https://www.ktnnonline.com/event/forest-lake-chapter-senior-center-not-serving-meals-today/
CATEGORIES:Event
END:VEVENT
END:VCALENDAR