BEGIN:VCALENDAR
VERSION:2.0
PRODID:-//KTNN - St. Michaels, AZ - ECPv5.6.0//NONSGML v1.0//EN
CALSCALE:GREGORIAN
METHOD:PUBLISH
X-WR-CALNAME:KTNN - St. Michaels, AZ
X-ORIGINAL-URL:https://www.ktnnonline.com
X-WR-CALDESC:Events for KTNN - St. Michaels, AZ
BEGIN:VTIMEZONE
TZID:America/Denver
BEGIN:DAYLIGHT
TZOFFSETFROM:-0700
TZOFFSETTO:-0600
TZNAME:MDT
DTSTART:20240310T090000
END:DAYLIGHT
BEGIN:STANDARD
TZOFFSETFROM:-0600
TZOFFSETTO:-0700
TZNAME:MST
DTSTART:20241103T080000
END:STANDARD
END:VTIMEZONE
BEGIN:VEVENT
DTSTART;TZID=America/Denver:20240111T130000
DTEND;TZID=America/Denver:20240111T170000
DTSTAMP:20260419T123303
CREATED:20240105T170244Z
LAST-MODIFIED:20240105T170244Z
UID:85799-1704978000-1704992400@www.ktnnonline.com
SUMMARY:Chinle Chapter Veterans Organization Meeting
DESCRIPTION:Event: Chinle Chapter Veterans Organization Meeting \nDate: Thursday\, January 11\, 2024 \nTime: 1:00 PM \nLocation:  Chinle Chapter House \nContact/Phone:  \nRemarks: Chapter Veterans are encouraged to attend and is open to the public\,  \nIn-Person Meeting \nTopics:  \n1. Opening 2nd go around of Finance Assistance for Fiscal Year 24 and \n 2. if Group approves Applications for Finance Assistance will be accepted                       and approved. \n Any questions call the Chapter House.
URL:https://www.ktnnonline.com/event/chinle-chapter-veterans-organization-meeting-3/
LOCATION:Chinle Chapter\, PO Box 1809\, Chinle\, AZ\, 86503\, United States
CATEGORIES:Event
GEO:36.1544483;-109.5526072
X-APPLE-STRUCTURED-LOCATION;VALUE=URI;X-ADDRESS=Chinle Chapter PO Box 1809 Chinle AZ 86503 United States;X-APPLE-RADIUS=500;X-TITLE=PO Box 1809:geo:-109.5526072,36.1544483
END:VEVENT
END:VCALENDAR