BEGIN:VCALENDAR
VERSION:2.0
PRODID:-//KTNN - St. Michaels, AZ - ECPv5.6.0//NONSGML v1.0//EN
CALSCALE:GREGORIAN
METHOD:PUBLISH
X-WR-CALNAME:KTNN - St. Michaels, AZ
X-ORIGINAL-URL:https://www.ktnnonline.com
X-WR-CALDESC:Events for KTNN - St. Michaels, AZ
BEGIN:VTIMEZONE
TZID:America/Denver
BEGIN:DAYLIGHT
TZOFFSETFROM:-0700
TZOFFSETTO:-0600
TZNAME:MDT
DTSTART:20230312T090000
END:DAYLIGHT
BEGIN:STANDARD
TZOFFSETFROM:-0600
TZOFFSETTO:-0700
TZNAME:MST
DTSTART:20231105T080000
END:STANDARD
END:VTIMEZONE
BEGIN:VEVENT
DTSTART;TZID=America/Denver:20230224T100000
DTEND;TZID=America/Denver:20230224T170000
DTSTAMP:20260425T121248
CREATED:20230224T161909Z
LAST-MODIFIED:20230224T161909Z
UID:76962-1677232800-1677258000@www.ktnnonline.com
SUMMARY:Casamero Lake Public Meeting Cancellation
DESCRIPTION:I hope you are all well today. Please cancel public meeting that was scheduled for today at the Casamero Lake Chapter House due to the weather. The meeting was with Navajo Nation Land Office\, BIA Realty\, and Navajo Nation Probate at 10:00 am. We will reschedule for another date in the near future. \nThank you. Stay safe. \nCasamero Lake Administration \nADMINISTRATION STAFF: \nVACANT\, Chapter Manager \nRoxana Mariano\, Administrative Assistant \nCHAPTER OFFICIALS: George Tolth\, President \nLawrence Largo\, Vice President VACANT\, Secretary/Treasurer \n1 of 1 \nCasamero Lake Chapter \n1037A County Road 19 \nPO Box 549\, Prewitt\, NM 87045 \nPhone: (505) 786-2457 \nFax: (505) 786-2455 \nEmail: casamerolake@navajochapters.org
URL:https://www.ktnnonline.com/event/casamero-lake-public-meeting-cancellation/
LOCATION:Casamero Lake Chapter\, 1037A County Rd 19\, Prewitt\, NM\, 87045\, United States
CATEGORIES:Event
GEO:35.5205862;-108.0256554
X-APPLE-STRUCTURED-LOCATION;VALUE=URI;X-ADDRESS=Casamero Lake Chapter 1037A County Rd 19 Prewitt NM 87045 United States;X-APPLE-RADIUS=500;X-TITLE=1037A County Rd 19:geo:-108.0256554,35.5205862
END:VEVENT
END:VCALENDAR