BEGIN:VCALENDAR
VERSION:2.0
PRODID:-//KTNN - St. Michaels, AZ - ECPv5.6.0//NONSGML v1.0//EN
CALSCALE:GREGORIAN
METHOD:PUBLISH
X-WR-CALNAME:KTNN - St. Michaels, AZ
X-ORIGINAL-URL:https://www.ktnnonline.com
X-WR-CALDESC:Events for KTNN - St. Michaels, AZ
BEGIN:VTIMEZONE
TZID:America/Denver
BEGIN:DAYLIGHT
TZOFFSETFROM:-0700
TZOFFSETTO:-0600
TZNAME:MDT
DTSTART:20230312T090000
END:DAYLIGHT
BEGIN:STANDARD
TZOFFSETFROM:-0600
TZOFFSETTO:-0700
TZNAME:MST
DTSTART:20231105T080000
END:STANDARD
END:VTIMEZONE
BEGIN:VEVENT
DTSTART;TZID=America/Denver:20230227T080000
DTEND;TZID=America/Denver:20230303T170000
DTSTAMP:20260425T125631
CREATED:20230227T190348Z
LAST-MODIFIED:20230227T190348Z
UID:77000-1677484800-1677862800@www.ktnnonline.com
SUMMARY:Casamero Lake Chapter No Longer Purchasing Wood
DESCRIPTION:This is Casamero Lake Chapter House. Please cancel announcement for community assistance for firewood\, pellets\, and propane now. I appreciate you all so much for your help with announcements. \nThank you. Good day! \n 
URL:https://www.ktnnonline.com/event/casamero-lake-chapter-no-longer-purchasing-wood/
LOCATION:Casamero Lake Chapter\, 1037A County Rd 19\, Prewitt\, NM\, 87045\, United States
CATEGORIES:Event
GEO:35.5205862;-108.0256554
X-APPLE-STRUCTURED-LOCATION;VALUE=URI;X-ADDRESS=Casamero Lake Chapter 1037A County Rd 19 Prewitt NM 87045 United States;X-APPLE-RADIUS=500;X-TITLE=1037A County Rd 19:geo:-108.0256554,35.5205862
END:VEVENT
END:VCALENDAR