BEGIN:VCALENDAR
VERSION:2.0
PRODID:-//KTNN - St. Michaels, AZ - ECPv5.6.0//NONSGML v1.0//EN
CALSCALE:GREGORIAN
METHOD:PUBLISH
X-WR-CALNAME:KTNN - St. Michaels, AZ
X-ORIGINAL-URL:https://www.ktnnonline.com
X-WR-CALDESC:Events for KTNN - St. Michaels, AZ
BEGIN:VTIMEZONE
TZID:America/Denver
BEGIN:DAYLIGHT
TZOFFSETFROM:-0700
TZOFFSETTO:-0600
TZNAME:MDT
DTSTART:20240310T090000
END:DAYLIGHT
BEGIN:STANDARD
TZOFFSETFROM:-0600
TZOFFSETTO:-0700
TZNAME:MST
DTSTART:20241103T080000
END:STANDARD
END:VTIMEZONE
BEGIN:VEVENT
DTSTART;TZID=America/Denver:20240110T100000
DTEND;TZID=America/Denver:20240110T200000
DTSTAMP:20260419T090436
CREATED:20240109T184110Z
LAST-MODIFIED:20240109T184110Z
UID:85850-1704880800-1704916800@www.ktnnonline.com
SUMMARY:AdaaAhaya-Self Care Community Event-Keep On Movin' It
DESCRIPTION:Event: Adaa Ahaya – Self care \nDate: Wednesday\, January 10\, 2024 \nTime: 10:00 AM to 1:00 PM \nLocation:  Dine College Gym – North Campus \nContact/Phone: 505-368-6300 \nRemarks: Health & Resource Fair\, 2-hour Zumba Exercise Session  6:00 pm to 8:00 pm
URL:https://www.ktnnonline.com/event/adaaahaya-self-care-community-event-keep-on-movin-it/
CATEGORIES:Event
END:VEVENT
END:VCALENDAR